BEGIN:VCALENDAR
VERSION:2.0
PRODID:-//Greater Houston Women’s Chamber of Commerce - ECPv6.15.20//NONSGML v1.0//EN
CALSCALE:GREGORIAN
METHOD:PUBLISH
X-WR-CALNAME:Greater Houston Women’s Chamber of Commerce
X-ORIGINAL-URL:https://ghwcc.org
X-WR-CALDESC:Events for Greater Houston Women’s Chamber of Commerce
REFRESH-INTERVAL;VALUE=DURATION:PT1H
X-Robots-Tag:noindex
X-PUBLISHED-TTL:PT1H
BEGIN:VTIMEZONE
TZID:America/Chicago
BEGIN:DAYLIGHT
TZOFFSETFROM:-0600
TZOFFSETTO:-0500
TZNAME:CDT
DTSTART:20230312T080000
END:DAYLIGHT
BEGIN:STANDARD
TZOFFSETFROM:-0500
TZOFFSETTO:-0600
TZNAME:CST
DTSTART:20231105T070000
END:STANDARD
BEGIN:DAYLIGHT
TZOFFSETFROM:-0600
TZOFFSETTO:-0500
TZNAME:CDT
DTSTART:20240310T080000
END:DAYLIGHT
BEGIN:STANDARD
TZOFFSETFROM:-0500
TZOFFSETTO:-0600
TZNAME:CST
DTSTART:20241103T070000
END:STANDARD
BEGIN:DAYLIGHT
TZOFFSETFROM:-0600
TZOFFSETTO:-0500
TZNAME:CDT
DTSTART:20250309T080000
END:DAYLIGHT
BEGIN:STANDARD
TZOFFSETFROM:-0500
TZOFFSETTO:-0600
TZNAME:CST
DTSTART:20251102T070000
END:STANDARD
END:VTIMEZONE
BEGIN:VEVENT
DTSTART;TZID=America/Chicago:20240315T183000
DTEND;TZID=America/Chicago:20240315T213000
DTSTAMP:20260421T033335
CREATED:20231213T161633Z
LAST-MODIFIED:20251126T082603Z
UID:10000013-1710527400-1710538200@ghwcc.org
SUMMARY:Texas Women’s Hall of Fame Gala 2024
DESCRIPTION:Sponsorships Opportunities & Tickets
URL:https://ghwcc.org/calendar/texas-womens-hall-of-fame-gala-2024/
LOCATION:Royal Sonesta Hotel Houston\, 2222 West Loop South\, Houston\, TX\, 77027\, United States
END:VEVENT
END:VCALENDAR